BEGIN:VCALENDAR
VERSION:2.0
PRODID:-//evangelische-termine.de//NONSGML kigkonsult.se iCalcreator 2.18//
CALSCALE:GREGORIAN
METHOD:PUBLISH
X-WR-CALNAME:iCal Evangelische-Termine 21.04.2026
X-WR-CALDESC:iCalender von Evangelische-Termine (21.04.2026)
X-WR-TIMEZONE:Europe/Berlin
X-MS-OLK-FORCEINSPECTOROPEN:TRUE
BEGIN:VTIMEZONE
TZID:Europe/Berlin
BEGIN:STANDARD
DTSTART:19701025T030000
TZOFFSETFROM:+0200
TZOFFSETTO:+0100
RRULE:FREQ=YEARLY;BYDAY=-1SU;BYMONTH=10
TZNAME:CET
END:STANDARD
BEGIN:DAYLIGHT
DTSTART:19700329T020000
TZOFFSETFROM:+0100
TZOFFSETTO:+0200
RRULE:FREQ=YEARLY;BYDAY=-1SU;BYMONTH=3
TZNAME:CEST
END:DAYLIGHT
END:VTIMEZONE
BEGIN:VEVENT
UID:20260425T180000-158231@evangelische-termine.de
DTSTAMP:20260421T123604Z
DESCRIPTION:\nOrt: Ev.-Luth. Nathanaelkirchgemeinde\nRietschelstrasse\n0417
 7 Leipzig\nAusführliche Beschreibung: Jubiläumskonzert der Konzertchores L
 eipzig (2016-2026)\nunter der Leitung von Karl Joseph Eckel\n\nmit Werken 
 aus Deutschland\, Indien\, Australien\, Amerika\, Gospel u.v.m.\nTickets u
 nter www.konzertchor-leipzig.de und an der Abendkasse\nArt der Veranstaltu
 ng: Konzerte/Theater/Musik
DTSTART;TZID=Europe/Berlin:20260425T180000
DTEND;TZID=Europe/Berlin:20260425T190000
LOCATION:Leipzig: Ev.-Luth. Nathanaelkirchgemeinde
SUMMARY:Jubiläumskonzert :: Konzertchor Leipzig
URL:https://kalender.evlks.de/veranstaltung_im_detail158231.html
END:VEVENT
END:VCALENDAR
