BEGIN:VCALENDAR
VERSION:2.0
PRODID:-//evangelische-termine.de//NONSGML kigkonsult.se iCalcreator 2.18//
CALSCALE:GREGORIAN
METHOD:PUBLISH
X-WR-CALNAME:iCal Evangelische-Termine 20.04.2026
X-WR-CALDESC:iCalender von Evangelische-Termine (20.04.2026)
X-WR-TIMEZONE:Europe/Berlin
X-MS-OLK-FORCEINSPECTOROPEN:TRUE
BEGIN:VTIMEZONE
TZID:Europe/Berlin
BEGIN:STANDARD
DTSTART:19701025T030000
TZOFFSETFROM:+0200
TZOFFSETTO:+0100
RRULE:FREQ=YEARLY;BYDAY=-1SU;BYMONTH=10
TZNAME:CET
END:STANDARD
BEGIN:DAYLIGHT
DTSTART:19700329T020000
TZOFFSETFROM:+0100
TZOFFSETTO:+0200
RRULE:FREQ=YEARLY;BYDAY=-1SU;BYMONTH=3
TZNAME:CEST
END:DAYLIGHT
END:VTIMEZONE
BEGIN:VEVENT
UID:20260530T100000-158241@evangelische-termine.de
DTSTAMP:20260420T180954Z
DESCRIPTION:\nUntertitel: Kantaten-Gottesdienst\nVeranstaltungsort: Kirche 
 Bärwalde\nAn der Kirche\n01471 Radeburg\nOT Bärwalde\nmusikalische Kategor
 ie: Kantate/Oratorium/Passion\nArt der Veranstaltung: Konzerte/Theater/Mus
 ik\nAnsprechpartner: Veit Martin (Kantor) veit.martin@evlks.de\nTelefon: 0
 35208 – 349628
DTSTART;TZID=Europe/Berlin:20260530T100000
DTEND;TZID=Europe/Berlin:20260530T110000
LOCATION:Radeburg: Kirche Bärwalde
SUMMARY:3.Radeburger Musiktage (29.-31.Mai 2026) :: Kantate: 'Liebster Jesu
 \, mein Verlangen' (BWV 32)
URL:https://kalender.evlks.de/veranstaltung_im_detail158241.html
END:VEVENT
END:VCALENDAR
