BEGIN:VCALENDAR
VERSION:2.0
PRODID:-//evangelische-termine.de//NONSGML kigkonsult.se iCalcreator 2.18//
CALSCALE:GREGORIAN
METHOD:PUBLISH
X-WR-CALNAME:iCal Evangelische-Termine 20.04.2026
X-WR-CALDESC:iCalender von Evangelische-Termine (20.04.2026)
X-WR-TIMEZONE:Europe/Berlin
X-MS-OLK-FORCEINSPECTOROPEN:TRUE
BEGIN:VTIMEZONE
TZID:Europe/Berlin
BEGIN:STANDARD
DTSTART:19701025T030000
TZOFFSETFROM:+0200
TZOFFSETTO:+0100
RRULE:FREQ=YEARLY;BYDAY=-1SU;BYMONTH=10
TZNAME:CET
END:STANDARD
BEGIN:DAYLIGHT
DTSTART:19700329T020000
TZOFFSETFROM:+0100
TZOFFSETTO:+0200
RRULE:FREQ=YEARLY;BYDAY=-1SU;BYMONTH=3
TZNAME:CEST
END:DAYLIGHT
END:VTIMEZONE
BEGIN:VEVENT
UID:20260530T200000-158242@evangelische-termine.de
DTSTAMP:20260420T180641Z
DESCRIPTION:\nUntertitel: 3.Radeburger Musiktage\nVeranstaltungsort: Kirche
  Bärnsdorf\nAn der Promnitz\n01471 Radeburg\nOT Bärnsdorf\nhttps://goo.gl/
 maps/xLCL8WYQijj8WN8XA\nmusikalische Kategorie: Ensembles/Solisten\nInterp
 reten: Mila-Martha Prokopiev & Magda-Lena Prokopiev\nArt der Veranstaltung
 : Konzerte/Theater/Musik\nAnsprechpartner: Sabine Prokopiev (Pfarrerin) sa
 bine.prokopiev@evlks.de\nTelefon: 035207 – 20 38 32
DTSTART;TZID=Europe/Berlin:20260530T200000
DTEND;TZID=Europe/Berlin:20260530T210000
LOCATION:Radeburg: Kirche Bärnsdorf
SUMMARY:Abendmusik mit Cello und Geige zur kleinen Kirchen-NEU-Eröffnung (m
 it anschl. kleinem Umtrunk)
URL:https://kalender.evlks.de/veranstaltung_im_detail158242.html
END:VEVENT
END:VCALENDAR
