BEGIN:VCALENDAR
VERSION:2.0
PRODID:-//evangelische-termine.de//NONSGML kigkonsult.se iCalcreator 2.18//
CALSCALE:GREGORIAN
METHOD:PUBLISH
X-WR-CALNAME:iCal Evangelische-Termine 21.04.2026
X-WR-CALDESC:iCalender von Evangelische-Termine (21.04.2026)
X-WR-TIMEZONE:Europe/Berlin
X-MS-OLK-FORCEINSPECTOROPEN:TRUE
BEGIN:VTIMEZONE
TZID:Europe/Berlin
BEGIN:STANDARD
DTSTART:19701025T030000
TZOFFSETFROM:+0200
TZOFFSETTO:+0100
RRULE:FREQ=YEARLY;BYDAY=-1SU;BYMONTH=10
TZNAME:CET
END:STANDARD
BEGIN:DAYLIGHT
DTSTART:19700329T020000
TZOFFSETFROM:+0100
TZOFFSETTO:+0200
RRULE:FREQ=YEARLY;BYDAY=-1SU;BYMONTH=3
TZNAME:CEST
END:DAYLIGHT
END:VTIMEZONE
BEGIN:VEVENT
UID:20260517T100000-158387@evangelische-termine.de
DTSTAMP:20260421T122503Z
DESCRIPTION:\nOrt: Kirche St. Andreas Gesau\nPfarrweg\n08371 Glauchau\nAusf
 ührliche Beschreibung: Ch.+Cph. Scheurer\nPredigt Sup. i.R. Heß\n\nArt der
  Veranstaltung: Gottesdienste
DTSTART;TZID=Europe/Berlin:20260517T100000
DTEND;TZID=Europe/Berlin:20260517T110000
LOCATION:Glauchau: Kirche St. Andreas Gesau
SUMMARY:Gottesdienst
URL:https://kalender.evlks.de/veranstaltung_im_detail158387.html
END:VEVENT
END:VCALENDAR
