BEGIN:VCALENDAR
VERSION:2.0
PRODID:-//evangelische-termine.de//NONSGML kigkonsult.se iCalcreator 2.18//
CALSCALE:GREGORIAN
METHOD:PUBLISH
X-WR-CALNAME:iCal Evangelische-Termine 20.04.2026
X-WR-CALDESC:iCalender von Evangelische-Termine (20.04.2026)
X-WR-TIMEZONE:Europe/Berlin
X-MS-OLK-FORCEINSPECTOROPEN:TRUE
BEGIN:VTIMEZONE
TZID:Europe/Berlin
BEGIN:STANDARD
DTSTART:19701025T030000
TZOFFSETFROM:+0200
TZOFFSETTO:+0100
RRULE:FREQ=YEARLY;BYDAY=-1SU;BYMONTH=10
TZNAME:CET
END:STANDARD
BEGIN:DAYLIGHT
DTSTART:19700329T020000
TZOFFSETFROM:+0100
TZOFFSETTO:+0200
RRULE:FREQ=YEARLY;BYDAY=-1SU;BYMONTH=3
TZNAME:CEST
END:DAYLIGHT
END:VTIMEZONE
BEGIN:VEVENT
UID:20260830T160000-158993@evangelische-termine.de
DTSTAMP:20260420T043754Z
DESCRIPTION:\nVeranstaltungsort: St.-Markus-Kirche\nMarkusplatz\n01129 Dres
 den\nAnsprechpartner: Jan Witza\nKindergottesdienst: ohne Kindergottesdien
 st\nInternetadresse: https://www.laurentius-dresden.de\nE-Mail: kg.dresden
 _laurentius@evlks.de
DTSTART;TZID=Europe/Berlin:20260830T160000
DTEND;TZID=Europe/Berlin:20260830T170000
LOCATION:Dresden: St.-Markus-Kirche
SUMMARY:bands in concert
URL:https://kalender.evlks.de/veranstaltung_im_detail158993.html
END:VEVENT
END:VCALENDAR
