BEGIN:VCALENDAR
VERSION:2.0
PRODID:-//evangelische-termine.de//NONSGML kigkonsult.se iCalcreator 2.18//
CALSCALE:GREGORIAN
METHOD:PUBLISH
X-WR-CALNAME:iCal Evangelische-Termine 21.04.2026
X-WR-CALDESC:iCalender von Evangelische-Termine (21.04.2026)
X-WR-TIMEZONE:Europe/Berlin
X-MS-OLK-FORCEINSPECTOROPEN:TRUE
BEGIN:VTIMEZONE
TZID:Europe/Berlin
BEGIN:STANDARD
DTSTART:19701025T030000
TZOFFSETFROM:+0200
TZOFFSETTO:+0100
RRULE:FREQ=YEARLY;BYDAY=-1SU;BYMONTH=10
TZNAME:CET
END:STANDARD
BEGIN:DAYLIGHT
DTSTART:19700329T020000
TZOFFSETFROM:+0100
TZOFFSETTO:+0200
RRULE:FREQ=YEARLY;BYDAY=-1SU;BYMONTH=3
TZNAME:CEST
END:DAYLIGHT
END:VTIMEZONE
BEGIN:VEVENT
UID:20260422T160000-159436@evangelische-termine.de
DTSTAMP:20260421T105301Z
DESCRIPTION:\nKurzbeschreibung: Fotos\, Interviews\, Fluchtrouten\nOrt: Löb
 au Heilig-Geist-Kirche\nÄußere Zittauer Straße 31\n02708 Löbau\nAusführlic
 he Beschreibung: Am 22. April wird in der Heilig-Geist-Kirche Löbau um 16 
 Uhr eine spannende Ausstellung eröffnet: 'Es ist nicht leise in meinem Kop
 f'.\nEs geht um Menschen\, die geflüchtet sind und in Sachsen ein neues Zu
 hause gefunden haben. Genauere Infos zum Inhalt und Hintergrund finden Int
 eressierte unter www.esistnichtleise.de\nBis zum 16. Juni kann man sich fü
 r einen Besuch mit einer Gruppe melden oder am Begleitprogramm teilnehmen.
 \nArt der Veranstaltung: Gruppen/Kreise\; Konzerte/Theater/Musik\; Ausstel
 lungen/Kunst\nInternetadresse (eigene Infos im Internet): https://www.esis
 tnichtleise.de\nWeitere Informationen: Öffnungszeiten:\nnach Vereinbarung 
 über Telefon: 0163 306 28 07 und bei den folgenden Veranstaltungen:\nMittw
 och\, 29.04.2026\, 13-14.30 Uhr\, Willkommensbündnis Löbau\nFreitag\, 08.0
 5.2026\, 19-19:45 Uhr\, Orgelkonzert mit Erika Haufe (Eintritt frei)\nMitt
 woch\, 20.05.2026\, 16-18 Uhr\, Café International - Eintritt frei\nDonner
 stag\, 11.06.2026\, 15-17 Uhr\, Spielenachmittag mit Anne Kaufmann - Eintr
 itt frei
DTSTART;TZID=Europe/Berlin:20260422T160000
DTEND;TZID=Europe/Berlin:20260616T170000
LOCATION:Löbau: Löbau Heilig-Geist-Kirche
SUMMARY:Es ist nicht leise in meinem Kopf :: Eine Ausstellung von und mit G
 eflüchteten
URL:https://kalender.evlks.de/veranstaltung_im_detail159436.html
END:VEVENT
END:VCALENDAR
