BEGIN:VCALENDAR
VERSION:2.0
PRODID:-//evangelische-termine.de//NONSGML kigkonsult.se iCalcreator 2.18//
CALSCALE:GREGORIAN
METHOD:PUBLISH
X-WR-CALNAME:iCal Evangelische-Termine 20.04.2026
X-WR-CALDESC:iCalender von Evangelische-Termine (20.04.2026)
X-WR-TIMEZONE:Europe/Berlin
X-MS-OLK-FORCEINSPECTOROPEN:TRUE
BEGIN:VTIMEZONE
TZID:Europe/Berlin
BEGIN:STANDARD
DTSTART:19701025T030000
TZOFFSETFROM:+0200
TZOFFSETTO:+0100
RRULE:FREQ=YEARLY;BYDAY=-1SU;BYMONTH=10
TZNAME:CET
END:STANDARD
BEGIN:DAYLIGHT
DTSTART:19700329T020000
TZOFFSETFROM:+0100
TZOFFSETTO:+0200
RRULE:FREQ=YEARLY;BYDAY=-1SU;BYMONTH=3
TZNAME:CEST
END:DAYLIGHT
END:VTIMEZONE
BEGIN:VEVENT
UID:20260507T190000-160003@evangelische-termine.de
DTSTAMP:20260420T040327Z
DESCRIPTION:\nKurzbeschreibung: Leben\nOrt: Klosterhof St. Afra Meißen\nFre
 iheit 16\n01662 Meißen\nAusführliche Beschreibung: „Geborgen im Segen dein
 er Gegenwart“ so beginnt ein Lied in den gesungenen Gebeten von Helge Burg
 grabe. Wir wollen an diesen Abenden kurzen Texten lauschen und nach seinen
  und anderen Kompositionen die eigene Stimme als Ausdrucksmöglichkeit der 
 Seele und des Glaubens erklingen lassen.\n\nMUSIKALISCHE UND INHALTLICHE G
 ESTALTUNG:\nDR. GABRIELE JATZWAUK und\nDR. KERSTIN SCHIMMEL\n\nKONTAKT UND
  INFORMATION:\nEmail: sandra.kirsten@evlks.de\nTelefon: 0351 81 24-319\nAr
 t der Veranstaltung: Gebete/Andachten/Friedensgebete\nAnsprechperson: Sand
 ra Kirsten sandra.kirsten@evlks.de\nMitwirkende: DR. GABRIELE JATZWAUK und
  DR. KERSTIN SCHIMMEL
DTSTART;TZID=Europe/Berlin:20260507T190000
DTEND;TZID=Europe/Berlin:20260507T200000
LOCATION:Meißen: Klosterhof St. Afra Meißen
SUMMARY:HAGIOSFRIEDENSGESÄNGE :: Leben
URL:https://kalender.evlks.de/veranstaltung_im_detail160003.html
END:VEVENT
END:VCALENDAR
