BEGIN:VCALENDAR
VERSION:2.0
PRODID:-//evangelische-termine.de//NONSGML kigkonsult.se iCalcreator 2.18//
CALSCALE:GREGORIAN
METHOD:PUBLISH
X-WR-CALNAME:iCal Evangelische-Termine 21.04.2026
X-WR-CALDESC:iCalender von Evangelische-Termine (21.04.2026)
X-WR-TIMEZONE:Europe/Berlin
X-MS-OLK-FORCEINSPECTOROPEN:TRUE
BEGIN:VTIMEZONE
TZID:Europe/Berlin
BEGIN:STANDARD
DTSTART:19701025T030000
TZOFFSETFROM:+0200
TZOFFSETTO:+0100
RRULE:FREQ=YEARLY;BYDAY=-1SU;BYMONTH=10
TZNAME:CET
END:STANDARD
BEGIN:DAYLIGHT
DTSTART:19700329T020000
TZOFFSETFROM:+0100
TZOFFSETTO:+0200
RRULE:FREQ=YEARLY;BYDAY=-1SU;BYMONTH=3
TZNAME:CEST
END:DAYLIGHT
END:VTIMEZONE
BEGIN:VEVENT
UID:20260628T000000-160038@evangelische-termine.de
DTSTAMP:20260421T155421Z
DESCRIPTION:\nOrt: Schlosskirche Chemnitz\nSchloßberg 11\n09113 Chemnitz\nA
 usführliche Beschreibung: Werke aus Seidenstickerei von Prof. Gisela Polst
 er (Schneeberg)\nArt der Veranstaltung: Ausstellungen/Kunst\nInternetadres
 se (eigene Infos im Internet): https://st-petri-schloss-chemnitz.de/?post_
 type=evlks-news&p=27355
DTSTART;VALUE=DATE:20260628
DTEND;VALUE=DATE:20260817
LOCATION:Chemnitz: Schlosskirche Chemnitz
SUMMARY:Ausstellung zu Lucas Cranach in der Schloßkirche
URL:https://kalender.evlks.de/veranstaltung_im_detail160038.html
END:VEVENT
END:VCALENDAR
