BEGIN:VCALENDAR
VERSION:2.0
PRODID:-//evangelische-termine.de//NONSGML kigkonsult.se iCalcreator 2.18//
CALSCALE:GREGORIAN
METHOD:PUBLISH
X-WR-CALNAME:iCal Evangelische-Termine 21.04.2026
X-WR-CALDESC:iCalender von Evangelische-Termine (21.04.2026)
X-WR-TIMEZONE:Europe/Berlin
X-MS-OLK-FORCEINSPECTOROPEN:TRUE
BEGIN:VTIMEZONE
TZID:Europe/Berlin
BEGIN:STANDARD
DTSTART:19701025T030000
TZOFFSETFROM:+0200
TZOFFSETTO:+0100
RRULE:FREQ=YEARLY;BYDAY=-1SU;BYMONTH=10
TZNAME:CET
END:STANDARD
BEGIN:DAYLIGHT
DTSTART:19700329T020000
TZOFFSETFROM:+0100
TZOFFSETTO:+0200
RRULE:FREQ=YEARLY;BYDAY=-1SU;BYMONTH=3
TZNAME:CEST
END:DAYLIGHT
END:VTIMEZONE
BEGIN:VEVENT
UID:20260423T200000-161037@evangelische-termine.de
DTSTAMP:20260421T123832Z
DESCRIPTION:\nOnline/Offline: Präsenz\nVeranstaltungsort: Nathanaelkirche -
  Begegnungskirche\n04177 Leipzig\nAusführliche Beschreibung: Mo- Fr jeweil
 s 20 Uhr in der Begegnungskirche\,\n\nDer Veranstaltungsplan ist hier zu f
 inden:\nhttps://www.nathanaelgemeinde.de/fileadmin/content/Bilder_Flyer_f%
 C3%BCr_News/2026.jpg\nReferent/-innen: Pfr. i.R. Bernd Frauenlob\nInformat
 ionen / Anmeldung: ohne Anmeldung\nArt der Veranstaltung: Fortbildungen/Se
 minare/Vorträge
DTSTART;TZID=Europe/Berlin:20260423T200000
DTEND;TZID=Europe/Berlin:20260423T220000
LOCATION:Leipzig: Nathanaelkirche - Begegnungskirche
SUMMARY:Bibelwoche :: Brief nach Laodizea - Off 3\, 14-22
URL:https://kalender.evlks.de/veranstaltung_im_detail161037.html
END:VEVENT
END:VCALENDAR
