BEGIN:VCALENDAR
VERSION:2.0
PRODID:-//evangelische-termine.de//NONSGML kigkonsult.se iCalcreator 2.18//
CALSCALE:GREGORIAN
METHOD:PUBLISH
X-WR-CALNAME:iCal Evangelische-Termine 22.04.2026
X-WR-CALDESC:iCalender von Evangelische-Termine (22.04.2026)
X-WR-TIMEZONE:Europe/Berlin
X-MS-OLK-FORCEINSPECTOROPEN:TRUE
BEGIN:VTIMEZONE
TZID:Europe/Berlin
BEGIN:STANDARD
DTSTART:19701025T030000
TZOFFSETFROM:+0200
TZOFFSETTO:+0100
RRULE:FREQ=YEARLY;BYDAY=-1SU;BYMONTH=10
TZNAME:CET
END:STANDARD
BEGIN:DAYLIGHT
DTSTART:19700329T020000
TZOFFSETFROM:+0100
TZOFFSETTO:+0200
RRULE:FREQ=YEARLY;BYDAY=-1SU;BYMONTH=3
TZNAME:CEST
END:DAYLIGHT
END:VTIMEZONE
BEGIN:VEVENT
UID:20260423T190000-161071@evangelische-termine.de
DTSTAMP:20260422T013313Z
DESCRIPTION:\nKurzbeschreibung: Autokratisierung und die Zuspitzung des Nah
 ostkonflikts\nOrt: *) siehe Beschreibung\n Sachsen\nAusführliche Beschreib
 ung: Mit dem Scheitern einer friedlichen Konfliktregelung in Nahost ist de
 r israelisch-palästinensische Gegensatz in einen existentiellen Konflikt z
 urückgefallen. Gleichzeitig sind in Israel Elemente liberaler Demokratie a
 bgebaut worden. In den palästinensischen Gebieten haben sich autokratische
  Strukturen verfestigt. Dr. Muriel Asseburg beleuchtet die Zuspitzung des 
 Nahostkonflikts in den letzten Jahren und dessen Rückwirkungen auf die Ges
 ellschaften in Israel und den palästinensischen Gebieten sowie den Zusamme
 nhang mit der dort beobachtbaren Autokratisierung.\n\nREFERENTIN\nDr. Muri
 el Asseburg ist wissenschaftliche Mitarbeiterin der Stiftung Wissenschaft 
 und Politik und forscht insbesondere zu Konflikten und politischen Ordnung
 en im Nahen Osten. Seit Januar 2024 leitet sie gemeinsam mit der Soziologi
 n Sinem Adar die Themenlinie 'Autokratisierung als Herausforderung für die
  deutsche und europäische Politik'.\n\nHINWEIS\nDie Veranstaltung findet i
 m Rahmen von 'Tacheles 2026'\, dem Jahr der Jüdischen Kultur in Sachsen\, 
 und in Zusammenarbeit mit den Tagen der Jüdischen Kultur Chemnitz und der 
 Katholischen Akademie des Bistums Dresden-Meißen statt.\n\nORT\nTU Chemnit
 z\nEduard-Theodor-Böttcher-Bau (Altes Heizhaus)\nStraße der Nationen 62\n0
 9111 Chemnitz\nArt der Veranstaltung: Sonstiges\nMitwirkende: Dr. Muriel A
 sseburg\, wissenschaftliche Mitarbeiterin der Stiftung Wissenschaft und Po
 litik
DTSTART;TZID=Europe/Berlin:20260423T190000
DTEND;TZID=Europe/Berlin:20260423T200000
LOCATION:Sachsen: *) siehe Beschreibung
SUMMARY:Brennpunkt Israel Palästina :: Autokratisierung und die Zuspitzung 
 des Nahostkonflikts
URL:https://kalender.evlks.de/veranstaltung_im_detail161071.html
END:VEVENT
END:VCALENDAR
