BEGIN:VCALENDAR
VERSION:2.0
PRODID:-//evangelische-termine.de//NONSGML kigkonsult.se iCalcreator 2.18//
CALSCALE:GREGORIAN
METHOD:PUBLISH
X-WR-CALNAME:iCal Evangelische-Termine 23.04.2026
X-WR-CALDESC:iCalender von Evangelische-Termine (23.04.2026)
X-WR-TIMEZONE:Europe/Berlin
X-MS-OLK-FORCEINSPECTOROPEN:TRUE
BEGIN:VTIMEZONE
TZID:Europe/Berlin
BEGIN:STANDARD
DTSTART:19701025T030000
TZOFFSETFROM:+0200
TZOFFSETTO:+0100
RRULE:FREQ=YEARLY;BYDAY=-1SU;BYMONTH=10
TZNAME:CET
END:STANDARD
BEGIN:DAYLIGHT
DTSTART:19700329T020000
TZOFFSETFROM:+0100
TZOFFSETTO:+0200
RRULE:FREQ=YEARLY;BYDAY=-1SU;BYMONTH=3
TZNAME:CEST
END:DAYLIGHT
END:VTIMEZONE
BEGIN:VEVENT
UID:20260425T090000-161304@evangelische-termine.de
DTSTAMP:20260423T021439Z
DESCRIPTION:\nKurzbeschreibung: Es werden viele fleißige Helfer gesucht.\nO
 rt: Haus der Kirche Johanngeorgenstadt\nAm Wäldchen 7\n08349 Johanngeorgen
 stadt\nArt der Veranstaltung: Gottesdienste\; Gruppen/Kreise\; Sonstiges\n
 Weitere Informationen: Arbeitseinsatz – pack mit an! 💪🌿\n\nGemeinsam wolle
 n wir am Samstag rund ums Rüstzeitheim anpacken – drinnen wie draußen.\nOb
  Gartenarbeit\, Aufräumen oder kleine Projekte: Jede helfende Hand zählt!
 \n🤝 gemeinsam arbeiten\n🌿 Zeit draußen verbringen\n😄 gute Gemeinschaft erl
 eben
DTSTART;TZID=Europe/Berlin:20260425T090000
DTEND;TZID=Europe/Berlin:20260425T100000
LOCATION:Johanngeorgenstadt: Haus der Kirche Johanngeorgenstadt
SUMMARY:Arbeitseinsatz: Haus der Kirche
URL:https://kalender.evlks.de/veranstaltung_im_detail161304.html
END:VEVENT
END:VCALENDAR
