BEGIN:VCALENDAR
VERSION:2.0
PRODID:-//evangelische-termine.de//NONSGML kigkonsult.se iCalcreator 2.18//
CALSCALE:GREGORIAN
METHOD:PUBLISH
X-WR-CALNAME:iCal Evangelische-Termine 25.04.2026
X-WR-CALDESC:iCalender von Evangelische-Termine (25.04.2026)
X-WR-TIMEZONE:Europe/Berlin
X-MS-OLK-FORCEINSPECTOROPEN:TRUE
BEGIN:VTIMEZONE
TZID:Europe/Berlin
BEGIN:STANDARD
DTSTART:19701025T030000
TZOFFSETFROM:+0200
TZOFFSETTO:+0100
RRULE:FREQ=YEARLY;BYDAY=-1SU;BYMONTH=10
TZNAME:CET
END:STANDARD
BEGIN:DAYLIGHT
DTSTART:19700329T020000
TZOFFSETFROM:+0100
TZOFFSETTO:+0200
RRULE:FREQ=YEARLY;BYDAY=-1SU;BYMONTH=3
TZNAME:CEST
END:DAYLIGHT
END:VTIMEZONE
BEGIN:VEVENT
UID:20260531T140000-161305@evangelische-termine.de
DTSTAMP:20260424T223425Z
DESCRIPTION:\nOrt: Haus der Kirche Johanngeorgenstadt\nAm Wäldchen 7\n08349
  Johanngeorgenstadt\nAusführliche Beschreibung: m Rahmen eines längeren Fo
 rschungsprojekts zusammen mit Jugendlichen aus dem Kirchenbezirk sind Scha
 utafeln zur Geschichte unseres Haus der Kirche (Rüstzeitheim) entstanden.
 \nJetzt ist es soweit: Das Projekt findet seinen Abschluss unddie Tafeln w
 erden auf dem Gelände aufgestellt.\n\n📅 31.05. | 14:00 Uhr\n🎉 feierliche E
 nthüllung & Eröffnung des neuen Weges\n\nDazu seid ihr herzlich eingeladen
  – kommt gern vorbei!\nArt der Veranstaltung: Gottesdienste\; Gruppen/Krei
 se\; Ausstellungen/Kunst\; Sonstiges
DTSTART;TZID=Europe/Berlin:20260531T140000
DTEND;TZID=Europe/Berlin:20260531T150000
LOCATION:Johanngeorgenstadt: Haus der Kirche Johanngeorgenstadt
SUMMARY:Feierliche Enthüllung der Schautafeln im Haus der Kirche :: Abschlu
 ss Jugendprojekt Haus der Kirche
URL:https://kalender.evlks.de/veranstaltung_im_detail161305.html
END:VEVENT
END:VCALENDAR
