BEGIN:VCALENDAR
VERSION:2.0
PRODID:-//evangelische-termine.de//NONSGML kigkonsult.se iCalcreator 2.18//
CALSCALE:GREGORIAN
METHOD:PUBLISH
X-WR-CALNAME:iCal Evangelische-Termine 23.04.2026
X-WR-CALDESC:iCalender von Evangelische-Termine (23.04.2026)
X-WR-TIMEZONE:Europe/Berlin
X-MS-OLK-FORCEINSPECTOROPEN:TRUE
BEGIN:VTIMEZONE
TZID:Europe/Berlin
BEGIN:STANDARD
DTSTART:19701025T030000
TZOFFSETFROM:+0200
TZOFFSETTO:+0100
RRULE:FREQ=YEARLY;BYDAY=-1SU;BYMONTH=10
TZNAME:CET
END:STANDARD
BEGIN:DAYLIGHT
DTSTART:19700329T020000
TZOFFSETFROM:+0100
TZOFFSETTO:+0200
RRULE:FREQ=YEARLY;BYDAY=-1SU;BYMONTH=3
TZNAME:CEST
END:DAYLIGHT
END:VTIMEZONE
BEGIN:VEVENT
UID:20240224T000000-16158@evangelische-termine.de
DTSTAMP:20260423T102502Z
DESCRIPTION:\nOnline/Offline: Präsenz\nVeranstaltungsort: Komensky Gäste-un
 d Tagungshaus Herrnhut\nComeniusstraße 8-10\n02747 Herrnhut\nPreis/Kosten:
  Beginn Sonntag 17:00 Uhr\, Montag bis Freitag 08:30 Uhr bis 14:00 Uhr\nKo
 sten: 195\,00 Euro (zzgl. Übernachtung) (Stand 2023)/\nAusführliche Beschr
 eibung: Was wir durch Fasten gewinnen können:\n\nAbbau überflüssig gespeic
 herter Stoffe\nAnregung der Fettverbrennung\ngutes Entschlackungs- und Ent
 giftungsmittel\nEntlastung des Darmtraktes\nStärkung des Immunsystems\nErh
 altung der körperlichen und geistigen Leistungsfähigkeit\nStraffung des Bi
 ndegewebes und schönere Haut\nUmstellung der Lebens- und Ernährungsweise\n
 Kontakt: Anmeldung bis 15.01.2024 an:\nKerstin Wenzel\nEmail: wenzel-kerst
 in@gmx.de\nTelefon: 0179 3406300\nReferent/-innen: Kerstin Wenzel\, Katrin
  Jyrch\nInformationen / Anmeldung: https://www.komensky.de/veranstaltungen
 /termin\nBerufsgruppe: Ehrenamtliche\; Erzieher/-innen\; Friedhofsmitarbei
 tende\; Jurist/-innen\; Kirchenmusiker/-innen\; Lektor/-innen\; Seelsorger
 /-innen\nArt der Veranstaltung: Fortbildungen/Seminare/Vorträge
DTSTART;VALUE=DATE:20240224
DTEND;VALUE=DATE:20240302
LOCATION:Herrnhut: Komensky Gäste-und Tagungshaus Herrnhut
SUMMARY:Fastenwandern in Herrnhut :: Fasten ist nicht hungern\, Fasten ist 
 der 'königliche Heilweg'
URL:https://kalender.evlks.de/veranstaltung_im_detail16158.html
END:VEVENT
END:VCALENDAR
