BEGIN:VCALENDAR
VERSION:2.0
PRODID:-//evangelische-termine.de//NONSGML kigkonsult.se iCalcreator 2.18//
CALSCALE:GREGORIAN
METHOD:PUBLISH
X-WR-CALNAME:iCal Evangelische-Termine 24.04.2026
X-WR-CALDESC:iCalender von Evangelische-Termine (24.04.2026)
X-WR-TIMEZONE:Europe/Berlin
X-MS-OLK-FORCEINSPECTOROPEN:TRUE
BEGIN:VTIMEZONE
TZID:Europe/Berlin
BEGIN:STANDARD
DTSTART:19701025T030000
TZOFFSETFROM:+0200
TZOFFSETTO:+0100
RRULE:FREQ=YEARLY;BYDAY=-1SU;BYMONTH=10
TZNAME:CET
END:STANDARD
BEGIN:DAYLIGHT
DTSTART:19700329T020000
TZOFFSETFROM:+0100
TZOFFSETTO:+0200
RRULE:FREQ=YEARLY;BYDAY=-1SU;BYMONTH=3
TZNAME:CEST
END:DAYLIGHT
END:VTIMEZONE
BEGIN:VEVENT
UID:20260621T093000-161725@evangelische-termine.de
DTSTAMP:20260424T162037Z
DESCRIPTION:\nVeranstaltungsort: Peter-Pauls-Kirche\nHofer Straße\n09222 Mi
 ttelbach\nArt der Veranstaltung: Gottesdienste\nGottesdienstleitende: Pfr.
  J. Märker
DTSTART;TZID=Europe/Berlin:20260621T093000
DTEND;TZID=Europe/Berlin:20260621T110000
LOCATION:Mittelbach: Peter-Pauls-Kirche
SUMMARY:Gemeinsamer Gottesdienst der Region Chemnitz-West
URL:https://kalender.evlks.de/veranstaltung_im_detail161725.html
END:VEVENT
END:VCALENDAR
