BEGIN:VCALENDAR
VERSION:2.0
PRODID:-//evangelische-termine.de//NONSGML kigkonsult.se iCalcreator 2.18//
CALSCALE:GREGORIAN
METHOD:PUBLISH
X-WR-CALNAME:iCal Evangelische-Termine 23.04.2026
X-WR-CALDESC:iCalender von Evangelische-Termine (23.04.2026)
X-WR-TIMEZONE:Europe/Berlin
X-MS-OLK-FORCEINSPECTOROPEN:TRUE
BEGIN:VTIMEZONE
TZID:Europe/Berlin
BEGIN:STANDARD
DTSTART:19701025T030000
TZOFFSETFROM:+0200
TZOFFSETTO:+0100
RRULE:FREQ=YEARLY;BYDAY=-1SU;BYMONTH=10
TZNAME:CET
END:STANDARD
BEGIN:DAYLIGHT
DTSTART:19700329T020000
TZOFFSETFROM:+0100
TZOFFSETTO:+0200
RRULE:FREQ=YEARLY;BYDAY=-1SU;BYMONTH=3
TZNAME:CEST
END:DAYLIGHT
END:VTIMEZONE
BEGIN:VEVENT
UID:20241115T193000-23318@evangelische-termine.de
DTSTAMP:20260423T075825Z
DESCRIPTION:\nVeranstaltungsort: Jakobikirche\nDresdner Str. 1\n09599 Freib
 erg\nBesondere Hinweise: Seid gespannt auf unseren nächsten PROMISE Jugend
 gottesdienst mit Lobpreis\, cooler Botschaft und Segnungsangeboten!\n\njug
 o-promise.de\nInternetadresse: https://jugo-promise.de\nArt der Veranstalt
 ung: Konzerte/Theater/Musik
DTSTART;TZID=Europe/Berlin:20241115T193000
DTEND;TZID=Europe/Berlin:20241115T203000
LOCATION:Freiberg: Jakobikirche
SUMMARY:PROMISE Jugendgottesdienst „Ich wäre gerne wie...“
URL:https://kalender.evlks.de/veranstaltung_im_detail23318.html
END:VEVENT
END:VCALENDAR
