BEGIN:VCALENDAR
VERSION:2.0
PRODID:-//evangelische-termine.de//NONSGML kigkonsult.se iCalcreator 2.18//
CALSCALE:GREGORIAN
METHOD:PUBLISH
X-WR-CALNAME:iCal Evangelische-Termine 21.04.2026
X-WR-CALDESC:iCalender von Evangelische-Termine (21.04.2026)
X-WR-TIMEZONE:Europe/Berlin
X-MS-OLK-FORCEINSPECTOROPEN:TRUE
BEGIN:VTIMEZONE
TZID:Europe/Berlin
BEGIN:STANDARD
DTSTART:19701025T030000
TZOFFSETFROM:+0200
TZOFFSETTO:+0100
RRULE:FREQ=YEARLY;BYDAY=-1SU;BYMONTH=10
TZNAME:CET
END:STANDARD
BEGIN:DAYLIGHT
DTSTART:19700329T020000
TZOFFSETFROM:+0100
TZOFFSETTO:+0200
RRULE:FREQ=YEARLY;BYDAY=-1SU;BYMONTH=3
TZNAME:CEST
END:DAYLIGHT
END:VTIMEZONE
BEGIN:VEVENT
UID:20240817T150000-32973@evangelische-termine.de
DTSTAMP:20260421T090553Z
DESCRIPTION:\nVeranstaltungsort: Kirche Großstädteln\nAltendorffplatz\n0441
 6 Markkleeberg-Großstädteln\nInterpreten: Akkordeonensemble der Musik-und 
 Kunstschule Landkries Leipzig\nLeitung: Eduard Funkner\nGeistliches Wort: 
 Prfn. Kathrin Bickhardt-Schulz\nBesondere Hinweise: anschließend Begegnung
 scafé\nArt der Veranstaltung: Konzerte/Theater/Musik\nAnsprechpartner: Pfr
 n. Kathrin Bickhardt-Schulz kathrin.bickhardt_schulz@evlks.de\nTel.: 03429
 9/75459
DTSTART;TZID=Europe/Berlin:20240817T150000
DTEND;TZID=Europe/Berlin:20240817T160000
LOCATION:Markkleeberg-Großstädteln: Kirche Großstädteln
SUMMARY:Musiksommer :: Zug um Zug- Faszination Akkordeon
URL:https://kalender.evlks.de/veranstaltung_im_detail32973.html
END:VEVENT
END:VCALENDAR
