BEGIN:VCALENDAR
VERSION:2.0
PRODID:-//evangelische-termine.de//NONSGML kigkonsult.se iCalcreator 2.18//
CALSCALE:GREGORIAN
METHOD:PUBLISH
X-WR-CALNAME:iCal Evangelische-Termine 24.04.2026
X-WR-CALDESC:iCalender von Evangelische-Termine (24.04.2026)
X-WR-TIMEZONE:Europe/Berlin
X-MS-OLK-FORCEINSPECTOROPEN:TRUE
BEGIN:VTIMEZONE
TZID:Europe/Berlin
BEGIN:STANDARD
DTSTART:19701025T030000
TZOFFSETFROM:+0200
TZOFFSETTO:+0100
RRULE:FREQ=YEARLY;BYDAY=-1SU;BYMONTH=10
TZNAME:CET
END:STANDARD
BEGIN:DAYLIGHT
DTSTART:19700329T020000
TZOFFSETFROM:+0100
TZOFFSETTO:+0200
RRULE:FREQ=YEARLY;BYDAY=-1SU;BYMONTH=3
TZNAME:CEST
END:DAYLIGHT
END:VTIMEZONE
BEGIN:VEVENT
UID:20240823T180000-35173@evangelische-termine.de
DTSTAMP:20260424T054014Z
DESCRIPTION:\nVeranstaltungsort: Auferstehungskirche Flöha-Plaue\nFriedhofs
 tr. 1\n09557 Flöha\nInterpreten: Familienmusik mit Christine\, Johanna\, M
 agdalena\, Christoph\, Vincent und Ekkehard Hübler\nAufgeführte Werke: Ein
  buntes Programm mit Musik von Alt bis Neu für Flöte\, Violine\, Viola\, V
 ioloncello\, Tasteninstrumente und Schlagzeug\, einzeln und gemeinsam\, ga
 nz klassisch oder mit pepp mit dem Hübler-Sextett\nEintritt: frei(willig)
 \nArt der Veranstaltung: Konzerte/Theater/Musik\nAnsprechpartner: Kantor H
 übler
DTSTART;TZID=Europe/Berlin:20240823T180000
DTEND;TZID=Europe/Berlin:20240823T190000
LOCATION:Flöha: Auferstehungskirche Flöha-Plaue
SUMMARY:4. Sommermusik
URL:https://kalender.evlks.de/veranstaltung_im_detail35173.html
END:VEVENT
END:VCALENDAR
