BEGIN:VCALENDAR
VERSION:2.0
PRODID:-//evangelische-termine.de//NONSGML kigkonsult.se iCalcreator 2.18//
CALSCALE:GREGORIAN
METHOD:PUBLISH
X-WR-CALNAME:iCal Evangelische-Termine 25.04.2026
X-WR-CALDESC:iCalender von Evangelische-Termine (25.04.2026)
X-WR-TIMEZONE:Europe/Berlin
X-MS-OLK-FORCEINSPECTOROPEN:TRUE
BEGIN:VTIMEZONE
TZID:Europe/Berlin
BEGIN:STANDARD
DTSTART:19701025T030000
TZOFFSETFROM:+0200
TZOFFSETTO:+0100
RRULE:FREQ=YEARLY;BYDAY=-1SU;BYMONTH=10
TZNAME:CET
END:STANDARD
BEGIN:DAYLIGHT
DTSTART:19700329T020000
TZOFFSETFROM:+0100
TZOFFSETTO:+0200
RRULE:FREQ=YEARLY;BYDAY=-1SU;BYMONTH=3
TZNAME:CEST
END:DAYLIGHT
END:VTIMEZONE
BEGIN:VEVENT
UID:20240721T190000-39678@evangelische-termine.de
DTSTAMP:20260425T134915Z
DESCRIPTION:\nUntertitel: Alte Choräle in textlicher Neufassung von Gerhard
  Schöne\, Instrumentals\, Lieder von Herman van Veen\, Berrogüetto und LIA
 ISONG – Duo LIAISONG: Joerg & Dunja Naßler-Averdung\nVeranstaltungsort: Ev
 .-Luth. Stadtkirche Sebnitz\nKirchstraße 7\n01855 Sebnitz\nInternetadresse
 : https://landing.churchdesk.com/de/e/23653701/konzertreihe-musik-in-peter
 -paul-7-konzert-2024-ich-bin-ein-gast-auf-erden-chorale-vielsaitig\nArt de
 r Veranstaltung: Konzerte/Theater/Musik
DTSTART;TZID=Europe/Berlin:20240721T190000
DTEND;TZID=Europe/Berlin:20240721T200000
LOCATION:Sebnitz: Ev.-Luth. Stadtkirche Sebnitz
SUMMARY:Konzertreihe MUSIK IN PETER-PAUL · 7. Konzert 2024: »Ich bin ein Ga
 st auf Erden« – Choräle vielsaitig
URL:https://kalender.evlks.de/veranstaltung_im_detail39678.html
END:VEVENT
END:VCALENDAR
