BEGIN:VCALENDAR
VERSION:2.0
PRODID:-//evangelische-termine.de//NONSGML kigkonsult.se iCalcreator 2.18//
CALSCALE:GREGORIAN
METHOD:PUBLISH
X-WR-CALNAME:iCal Evangelische-Termine 20.04.2026
X-WR-CALDESC:iCalender von Evangelische-Termine (20.04.2026)
X-WR-TIMEZONE:Europe/Berlin
X-MS-OLK-FORCEINSPECTOROPEN:TRUE
BEGIN:VTIMEZONE
TZID:Europe/Berlin
BEGIN:STANDARD
DTSTART:19701025T030000
TZOFFSETFROM:+0200
TZOFFSETTO:+0100
RRULE:FREQ=YEARLY;BYDAY=-1SU;BYMONTH=10
TZNAME:CET
END:STANDARD
BEGIN:DAYLIGHT
DTSTART:19700329T020000
TZOFFSETFROM:+0100
TZOFFSETTO:+0200
RRULE:FREQ=YEARLY;BYDAY=-1SU;BYMONTH=3
TZNAME:CEST
END:DAYLIGHT
END:VTIMEZONE
BEGIN:VEVENT
UID:20260829T170000-54609@evangelische-termine.de
DTSTAMP:20260420T043302Z
DESCRIPTION:\nVeranstaltungsort: Freiberger Dom\nUntermarkt 1\n09599 Freibe
 rg\nInterpreten: Nacht der Kirchen Freiberg\n\nEine nächtliche Entdeckungs
 reise durch die Freiberger Kirchen und Gemeinden\nSamstag\, 29. August 202
 6\nKernzeiten der Programm-Angebote\, danach Wechselzeit:\n19:00 - 19:30 U
 hr\n20:00 - 20:30 Uhr\n21:00 - 21:30 Uhr\nin vielen Freiberger Kirchen\nIn
 ternetadresse: https://christen-freiberg.de/nachtderkirchen.html\nArt der 
 Veranstaltung: Konzerte/Theater/Musik
DTSTART;TZID=Europe/Berlin:20260829T170000
DTEND;TZID=Europe/Berlin:20260829T213000
LOCATION:Freiberg: Freiberger Dom
SUMMARY:Nacht der Kirchen in Freiberg
URL:https://kalender.evlks.de/veranstaltung_im_detail54609.html
END:VEVENT
END:VCALENDAR
