BEGIN:VCALENDAR
VERSION:2.0
PRODID:-//evangelische-termine.de//NONSGML kigkonsult.se iCalcreator 2.18//
CALSCALE:GREGORIAN
METHOD:PUBLISH
X-WR-CALNAME:iCal Evangelische-Termine 21.04.2026
X-WR-CALDESC:iCalender von Evangelische-Termine (21.04.2026)
X-WR-TIMEZONE:Europe/Berlin
X-MS-OLK-FORCEINSPECTOROPEN:TRUE
BEGIN:VTIMEZONE
TZID:Europe/Berlin
BEGIN:STANDARD
DTSTART:19701025T030000
TZOFFSETFROM:+0200
TZOFFSETTO:+0100
RRULE:FREQ=YEARLY;BYDAY=-1SU;BYMONTH=10
TZNAME:CET
END:STANDARD
BEGIN:DAYLIGHT
DTSTART:19700329T020000
TZOFFSETFROM:+0100
TZOFFSETTO:+0200
RRULE:FREQ=YEARLY;BYDAY=-1SU;BYMONTH=3
TZNAME:CEST
END:DAYLIGHT
END:VTIMEZONE
BEGIN:VEVENT
UID:20250418T100000-60765@evangelische-termine.de
DTSTAMP:20260421T090522Z
DESCRIPTION:\nVeranstaltungsort: Gorbitz\, Gemeindezentrum\nLeutewitzer Rin
 g 75\n01169 Dresden\nArt der Veranstaltung: Gottesdienste\nLandeskirchlich
 e Kollekte: Sächsische Diakonissenhäuser\nInternetadresse: https://landing
 .churchdesk.com/de/e/35917833/gottesdienst
DTSTART;TZID=Europe/Berlin:20250418T100000
DTEND;TZID=Europe/Berlin:20250418T110000
LOCATION:Dresden: Gorbitz\, Gemeindezentrum
SUMMARY:Gottesdienst
URL:https://kalender.evlks.de/veranstaltung_im_detail60765.html
END:VEVENT
END:VCALENDAR
