BEGIN:VCALENDAR
VERSION:2.0
PRODID:-//evangelische-termine.de//NONSGML kigkonsult.se iCalcreator 2.18//
CALSCALE:GREGORIAN
METHOD:PUBLISH
X-WR-CALNAME:iCal Evangelische-Termine 21.04.2026
X-WR-CALDESC:iCalender von Evangelische-Termine (21.04.2026)
X-WR-TIMEZONE:Europe/Berlin
X-MS-OLK-FORCEINSPECTOROPEN:TRUE
BEGIN:VTIMEZONE
TZID:Europe/Berlin
BEGIN:STANDARD
DTSTART:19701025T030000
TZOFFSETFROM:+0200
TZOFFSETTO:+0100
RRULE:FREQ=YEARLY;BYDAY=-1SU;BYMONTH=10
TZNAME:CET
END:STANDARD
BEGIN:DAYLIGHT
DTSTART:19700329T020000
TZOFFSETFROM:+0100
TZOFFSETTO:+0200
RRULE:FREQ=YEARLY;BYDAY=-1SU;BYMONTH=3
TZNAME:CEST
END:DAYLIGHT
END:VTIMEZONE
BEGIN:VEVENT
UID:20250320T103000-61724@evangelische-termine.de
DTSTAMP:20260421T090633Z
DESCRIPTION:\nOnline/Offline: Präsenz\nVeranstaltungsort: Dreikönigskirche 
 / Haus der Kirche Dresden Neustadt\nHauptstraße 23\n01097 Dresden\nKurzbes
 chreibung / Untertitel: Außerschulische Jugendarbeit und ihr politisches G
 egenüber in Sachsen: Jahrestagung des Forums Jugendarbeit Sachsen 2025\nAu
 sführliche Beschreibung: In Sachsen hat sich ein neuer Landtag konstituier
 t\, neue politische Mehrheitsverhältnisse prägen auch die Kinder- und Juge
 ndpolitik. Deren Schwerpunktsetzungen bilden den Rahmen ebenso wie die Mög
 lichkeiten auf dem Weg zu einem jugendgerechten Sachsen. Gleichzeitig sind
  die Haltungen und Lebenslagen der jungen Menschen teils im Wandel. Träger
  der Jugendarbeit müssen sich daher mit den Zielsetzungen ihrer eigenen Ar
 beit befassen. Die Jahrestagung möchte dafür eine Orientierung geben.\n\nK
 ooperation: Forum Jugendarbeit Sachsen\nLeitung: Christian Kurzke\nArt der
  Veranstaltung: Fortbildungen/Seminare/Vorträge
DTSTART;TZID=Europe/Berlin:20250320T103000
DTEND;TZID=Europe/Berlin:20250320T113000
LOCATION:Dresden: Dreikönigskirche / Haus der Kirche Dresden Neustadt
SUMMARY:Wer ist noch da? :: Außerschulische Jugendarbeit und ihr politische
 s Gegenüber in Sachsen: Jahrestagung des Forums Jugendarbeit Sachsen 2025
URL:https://kalender.evlks.de/veranstaltung_im_detail61724.html
END:VEVENT
END:VCALENDAR
