BEGIN:VCALENDAR
VERSION:2.0
PRODID:-//evangelische-termine.de//NONSGML kigkonsult.se iCalcreator 2.18//
CALSCALE:GREGORIAN
METHOD:PUBLISH
X-WR-CALNAME:iCal Evangelische-Termine 19.04.2026
X-WR-CALDESC:iCalender von Evangelische-Termine (19.04.2026)
X-WR-TIMEZONE:Europe/Berlin
X-MS-OLK-FORCEINSPECTOROPEN:TRUE
BEGIN:VTIMEZONE
TZID:Europe/Berlin
BEGIN:STANDARD
DTSTART:19701025T030000
TZOFFSETFROM:+0200
TZOFFSETTO:+0100
RRULE:FREQ=YEARLY;BYDAY=-1SU;BYMONTH=10
TZNAME:CET
END:STANDARD
BEGIN:DAYLIGHT
DTSTART:19700329T020000
TZOFFSETFROM:+0100
TZOFFSETTO:+0200
RRULE:FREQ=YEARLY;BYDAY=-1SU;BYMONTH=3
TZNAME:CEST
END:DAYLIGHT
END:VTIMEZONE
BEGIN:VEVENT
UID:20250306T193000-61744@evangelische-termine.de
DTSTAMP:20260419T132231Z
DESCRIPTION:\nOnline/Offline: Hybrid (z.B. Streaming-Veranstaltung)\nVerans
 taltungsort: GK Sondermaschinenbau GmbH\nKleinwolmsdorfer Str. 26\n01477 A
 rnsdorf\nKurzbeschreibung / Untertitel: Das SachsenSofa zur Suizidpräventi
 on\nAusführliche Beschreibung: 10.300 Menschen in Deutschland setzten 2023
  ihrem Leben selbst ein Ende. Mehr als zwei Drittel von ihnen sind Männer.
  Die höchste Selbsttötungsrate ist in Sachsen zu verzeichnen. Depressionen
  und Suizidgedanken sind ein Thema\, das immer noch tabuisiert wird. Wir s
 prechen darüber auf dem SachsenSofa mit diesen Gästen:\n- Lars Rohwer\, Mi
 tglied des Deutschen Bundestags \n- Dr. Ute Lewitzka\, Psychologin\, Vorsi
 tzende der Deutschen Gesellschaft für Suizidprävention\n-  Brigitte Mothes
 \, Selbsthilfegruppe Aktiv gegen Depression Auerbach\, Trägerin des Mental
  Health Awareness Award der Robert-Enke-Stiftung\n\nDie Veranstaltung kann
  im Livestream verfolgt werden: YouTube Link: https://youtube.com/live/Qyo
 a4AtQqEQ?feature=share\n\nKooperation: Katholische Akademie des Bistums Dr
 esden-Meißen\, Sachsen-Fernsehen\nModeration: Maxi Konang\, Daniel Heinze
 \n\nHinweis: Auf der Veranstaltung werden Bild-\, Ton- und Filmaufnahmen g
 emacht. Der Abend wird von Sachsen-Fernsehen aufgezeichnet.\nReferent/-inn
 en: - Lars Rohwer\, Mitglied des Deutschen Bundestags\n- Dr. Ute Lewitzka\
 , Psychologin\, Vorsitzende der Deutschen Gesellschaft für Suizidpräventio
 n\n- Brigitte Mothes\, Selbsthilfegruppe Aktiv gegen Depression Auerbach\,
  Trägerin des Mental Health Awareness Award der Robert-Enke-Stiftung\nInfo
 rmationen / Anmeldung: www.sachsensofa.de\nArt der Veranstaltung: Fortbild
 ungen/Seminare/Vorträge
DTSTART;TZID=Europe/Berlin:20250306T193000
DTEND;TZID=Europe/Berlin:20250306T203000
LOCATION:Arnsdorf: GK Sondermaschinenbau GmbH
SUMMARY:Für das Leben? :: Das SachsenSofa zur Suizidprävention
URL:https://kalender.evlks.de/veranstaltung_im_detail61744.html
END:VEVENT
END:VCALENDAR
