BEGIN:VCALENDAR
VERSION:2.0
PRODID:-//evangelische-termine.de//NONSGML kigkonsult.se iCalcreator 2.18//
CALSCALE:GREGORIAN
METHOD:PUBLISH
X-WR-CALNAME:iCal Evangelische-Termine 26.04.2026
X-WR-CALDESC:iCalender von Evangelische-Termine (26.04.2026)
X-WR-TIMEZONE:Europe/Berlin
X-MS-OLK-FORCEINSPECTOROPEN:TRUE
BEGIN:VTIMEZONE
TZID:Europe/Berlin
BEGIN:STANDARD
DTSTART:19701025T030000
TZOFFSETFROM:+0200
TZOFFSETTO:+0100
RRULE:FREQ=YEARLY;BYDAY=-1SU;BYMONTH=10
TZNAME:CET
END:STANDARD
BEGIN:DAYLIGHT
DTSTART:19700329T020000
TZOFFSETFROM:+0100
TZOFFSETTO:+0200
RRULE:FREQ=YEARLY;BYDAY=-1SU;BYMONTH=3
TZNAME:CEST
END:DAYLIGHT
END:VTIMEZONE
BEGIN:VEVENT
UID:20251122T090000-63247@evangelische-termine.de
DTSTAMP:20260426T004651Z
DESCRIPTION:\nOnline/Offline: Präsenz\nVeranstaltungsort: Sporthalle des BS
 Z 'Erdmann Kircheis' Aue\nRudolf-Breitscheid-Straße 27\n08280 Aue- Bad Sch
 lema\nAusführliche Beschreibung: Volleyballturnier in Aue: Ein großartiges
  Turnier mit vielen verschiedenen Mannschaften aller JGs aus dem Kirchenbe
 zirk und du und deine JG dürfen dabei nicht fehlen!\nArt der Veranstaltung
 : Sport/Spiel
DTSTART;TZID=Europe/Berlin:20251122T090000
DTEND;TZID=Europe/Berlin:20251122T100000
LOCATION:Aue- Bad Schlema: Sporthalle des BSZ 'Erdmann Kircheis' Aue
SUMMARY:EvJuAu Volleyball-Turnier
URL:https://kalender.evlks.de/veranstaltung_im_detail63247.html
END:VEVENT
END:VCALENDAR
