BEGIN:VCALENDAR
VERSION:2.0
PRODID:-//evangelische-termine.de//NONSGML kigkonsult.se iCalcreator 2.18//
CALSCALE:GREGORIAN
METHOD:PUBLISH
X-WR-CALNAME:iCal Evangelische-Termine 20.04.2026
X-WR-CALDESC:iCalender von Evangelische-Termine (20.04.2026)
X-WR-TIMEZONE:Europe/Berlin
X-MS-OLK-FORCEINSPECTOROPEN:TRUE
BEGIN:VTIMEZONE
TZID:Europe/Berlin
BEGIN:STANDARD
DTSTART:19701025T030000
TZOFFSETFROM:+0200
TZOFFSETTO:+0100
RRULE:FREQ=YEARLY;BYDAY=-1SU;BYMONTH=10
TZNAME:CET
END:STANDARD
BEGIN:DAYLIGHT
DTSTART:19700329T020000
TZOFFSETFROM:+0100
TZOFFSETTO:+0200
RRULE:FREQ=YEARLY;BYDAY=-1SU;BYMONTH=3
TZNAME:CEST
END:DAYLIGHT
END:VTIMEZONE
BEGIN:VEVENT
UID:20241207T160000-64760@evangelische-termine.de
DTSTAMP:20260420T114956Z
DESCRIPTION:\nUntertitel: Adventskonzert der kirchenmusikalischen Gruppen\n
 Veranstaltungsort: Trinitatiskirche Chemnitz-Hilbersdorf\nFrankenberger St
 raße 132\n09131 Chemnitz\nmusikalische Kategorie: Gesang/Chormusik\; Bläse
 rmusik\; Bands/Gospelchöre/Liedermacher/Musical\nInterpreten: Flötenkreis 
 St. Markus\, Jugendband 'SignPost' sowie Kantorei und Posaunenchor der Kir
 chgemeinden St. Andreas\, St. Markus und Trinitatis Chemnitz\nEintritt: Fr
 eier Eintritt\nArt der Veranstaltung: Konzerte/Theater/Musik\nAnsprechpart
 ner: Kantor Thomas Stadler thomas.stadler@evlks.de\n0371 - 63 10 69 24\n01
 78 - 31 27 939\nE-Mail: kg.chemnitz_gablenz@evlks.de
DTSTART;TZID=Europe/Berlin:20241207T160000
DTEND;TZID=Europe/Berlin:20241207T170000
LOCATION:Chemnitz: Trinitatiskirche Chemnitz-Hilbersdorf
SUMMARY:Adventskonzert
URL:https://kalender.evlks.de/veranstaltung_im_detail64760.html
END:VEVENT
END:VCALENDAR
