BEGIN:VCALENDAR
VERSION:2.0
PRODID:-//evangelische-termine.de//NONSGML kigkonsult.se iCalcreator 2.18//
CALSCALE:GREGORIAN
METHOD:PUBLISH
X-WR-CALNAME:iCal Evangelische-Termine 22.04.2026
X-WR-CALDESC:iCalender von Evangelische-Termine (22.04.2026)
X-WR-TIMEZONE:Europe/Berlin
X-MS-OLK-FORCEINSPECTOROPEN:TRUE
BEGIN:VTIMEZONE
TZID:Europe/Berlin
BEGIN:STANDARD
DTSTART:19701025T030000
TZOFFSETFROM:+0200
TZOFFSETTO:+0100
RRULE:FREQ=YEARLY;BYDAY=-1SU;BYMONTH=10
TZNAME:CET
END:STANDARD
BEGIN:DAYLIGHT
DTSTART:19700329T020000
TZOFFSETFROM:+0100
TZOFFSETTO:+0200
RRULE:FREQ=YEARLY;BYDAY=-1SU;BYMONTH=3
TZNAME:CEST
END:DAYLIGHT
END:VTIMEZONE
BEGIN:VEVENT
UID:20250106T193000-68087@evangelische-termine.de
DTSTAMP:20260421T234126Z
DESCRIPTION:\nUntertitel: Vom Dunkel ins Licht\nVeranstaltungsort: St. Jako
 bi-Kirche Stollberg\n Stollberg\nmusikalische Kategorie: Bläsermusik\nInte
 rnetadresse: https://landing.churchdesk.com/e/32203851/Musikalische-Andach
 t-zu-Epiphanias\nArt der Veranstaltung: Konzerte/Theater/Musik
DTSTART;TZID=Europe/Berlin:20250106T193000
DTEND;TZID=Europe/Berlin:20250106T203000
LOCATION:Stollberg: St. Jakobi-Kirche Stollberg
SUMMARY:Konzert des Jubilate-Chores Chemnitz
URL:https://kalender.evlks.de/veranstaltung_im_detail68087.html
END:VEVENT
END:VCALENDAR
