BEGIN:VCALENDAR
VERSION:2.0
PRODID:-//evangelische-termine.de//NONSGML kigkonsult.se iCalcreator 2.18//
CALSCALE:GREGORIAN
METHOD:PUBLISH
X-WR-CALNAME:iCal Evangelische-Termine 21.04.2026
X-WR-CALDESC:iCalender von Evangelische-Termine (21.04.2026)
X-WR-TIMEZONE:Europe/Berlin
X-MS-OLK-FORCEINSPECTOROPEN:TRUE
BEGIN:VTIMEZONE
TZID:Europe/Berlin
BEGIN:STANDARD
DTSTART:19701025T030000
TZOFFSETFROM:+0200
TZOFFSETTO:+0100
RRULE:FREQ=YEARLY;BYDAY=-1SU;BYMONTH=10
TZNAME:CET
END:STANDARD
BEGIN:DAYLIGHT
DTSTART:19700329T020000
TZOFFSETFROM:+0100
TZOFFSETTO:+0200
RRULE:FREQ=YEARLY;BYDAY=-1SU;BYMONTH=3
TZNAME:CEST
END:DAYLIGHT
END:VTIMEZONE
BEGIN:VEVENT
UID:20250815T000000-69243@evangelische-termine.de
DTSTAMP:20260421T090610Z
DESCRIPTION:\nUntertitel: Bekannte Posaunenchorliteratur und neue Arrangeme
 nts aus der bunten Welt der Popularmusik\nVeranstaltungsort: Gemeinderaum 
 der Johanniskirche\n08451 Crimmitschau\nmusikalische Kategorie: Bläsermusi
 k\nBesondere Hinweise: Das Seminar richtet sich an BläserInnen und Chorlei
 terInnen in Posaunenchören\, die Lust haben Musik für Bläser & Band zu ent
 decken. Vermittelt werden Fähigkeiten zu Blastechniken\, sowie das unverzi
 chtbare Hintergrundwissen zum Erarbeiten popularmusikalischer Bläserlitera
 tur in unterschiedlichsten Stilrichtungen.\n\nNeben speziellen Arrangement
 s zu bekannten Chorälen\, wird auch aus bekannter Posaunenchorliteratur mu
 siziert. Dabei geht es bunt von Swing über Funk bis hin zu Rock/Pop durch 
 die Welt der Popularmusik.\n\nSeminarziel ist die musikalische Ausgestaltu
 ng des Gottesdienstes am Sonntag.\n\nFreitag\, 15.08.25: Bläserprobe 18-21
  Uhr\nSamstag\, 16.08.25: Probe 9-18 Uhr\nSonntag\, 17.08.25: Probe & Gott
 esdienst 8-12 Uhr\nLeitung: André Engelbrecht\, Dozent für Popularmusik an
  der Hochschule für Kirchenmusik und LPW Tommy Schab.\n\nAnmeldung: \nhttp
 s://www.spm-ev.de/terminkalender/eventdetail/888/-/workshop-fuer-blaeser-b
 and\nInternetadresse: http://www.spm-ev.de\nArt der Veranstaltung: Fortbil
 dungen/Seminare/Vorträge\nE-Mail: musik@evlks.de
DTSTART;VALUE=DATE:20250815
DTEND;VALUE=DATE:20250818
LOCATION:Crimmitschau: Gemeinderaum der Johanniskirche
SUMMARY:Workshop für Bläser und Band
URL:https://kalender.evlks.de/veranstaltung_im_detail69243.html
END:VEVENT
END:VCALENDAR
