BEGIN:VCALENDAR
VERSION:2.0
PRODID:-//evangelische-termine.de//NONSGML kigkonsult.se iCalcreator 2.18//
CALSCALE:GREGORIAN
METHOD:PUBLISH
X-WR-CALNAME:iCal Evangelische-Termine 21.04.2026
X-WR-CALDESC:iCalender von Evangelische-Termine (21.04.2026)
X-WR-TIMEZONE:Europe/Berlin
X-MS-OLK-FORCEINSPECTOROPEN:TRUE
BEGIN:VTIMEZONE
TZID:Europe/Berlin
BEGIN:STANDARD
DTSTART:19701025T030000
TZOFFSETFROM:+0200
TZOFFSETTO:+0100
RRULE:FREQ=YEARLY;BYDAY=-1SU;BYMONTH=10
TZNAME:CET
END:STANDARD
BEGIN:DAYLIGHT
DTSTART:19700329T020000
TZOFFSETFROM:+0100
TZOFFSETTO:+0200
RRULE:FREQ=YEARLY;BYDAY=-1SU;BYMONTH=3
TZNAME:CEST
END:DAYLIGHT
END:VTIMEZONE
BEGIN:VEVENT
UID:20250309T101500-70805@evangelische-termine.de
DTSTAMP:20260421T110239Z
DESCRIPTION:\nVeranstaltungsort: Huthaus Bräunsdorf\nAn der Strigis\n09600 
 Oberschöna OT Bräunsdorf/Zechendorf\nArt der Veranstaltung: Gottesdienste
 \nInternetadresse: https://landing.churchdesk.com/de/e/36648820/gottesdien
 st-in-braunsdorf-abschluss-der-bibelwoche
DTSTART;TZID=Europe/Berlin:20250309T101500
DTEND;TZID=Europe/Berlin:20250309T111500
LOCATION:Oberschöna OT Bräunsdorf/Zechendorf: Huthaus Bräunsdorf
SUMMARY:Gottesdienst in Bräunsdorf Abschluss der Bibelwoche
URL:https://kalender.evlks.de/veranstaltung_im_detail70805.html
END:VEVENT
END:VCALENDAR
