BEGIN:VCALENDAR
VERSION:2.0
PRODID:-//evangelische-termine.de//NONSGML kigkonsult.se iCalcreator 2.18//
CALSCALE:GREGORIAN
METHOD:PUBLISH
X-WR-CALNAME:iCal Evangelische-Termine 24.04.2026
X-WR-CALDESC:iCalender von Evangelische-Termine (24.04.2026)
X-WR-TIMEZONE:Europe/Berlin
X-MS-OLK-FORCEINSPECTOROPEN:TRUE
BEGIN:VTIMEZONE
TZID:Europe/Berlin
BEGIN:STANDARD
DTSTART:19701025T030000
TZOFFSETFROM:+0200
TZOFFSETTO:+0100
RRULE:FREQ=YEARLY;BYDAY=-1SU;BYMONTH=10
TZNAME:CET
END:STANDARD
BEGIN:DAYLIGHT
DTSTART:19700329T020000
TZOFFSETFROM:+0100
TZOFFSETTO:+0200
RRULE:FREQ=YEARLY;BYDAY=-1SU;BYMONTH=3
TZNAME:CEST
END:DAYLIGHT
END:VTIMEZONE
BEGIN:VEVENT
UID:20240309T193000-8146@evangelische-termine.de
DTSTAMP:20260424T140812Z
DESCRIPTION:\nKurzbeschreibung: für alle Eltern\, Schüler/innen\, Lehrer/in
 nen und mit dem Kreuzgymnasium verbundene Tanzbegeisterte\nOrt: Ballhaus W
 atzke\nKötzschenbroder Str. 1\n01139 Dresden\nAusführliche Beschreibung: D
 er 8. Schulball des Evangelischen Kreuzgymnasiums nimmt die Tradition der 
 Schulbälle nach 4jähriger Pause wieder auf und steht unter dem Motto 'Fede
 rleicht und Abgehoben'.  \n\nHerzlich eingeladen sind Schülerinnen und Sch
 üler ab der 9. Klasse sowie deren TanzpartnerInnen aus anderen Schulen\, L
 ehrerinnen und Lehrer sowie Eltern\, größere Geschwister und interessierte
  Tanzbegeisterte.\nDie Karten für den Schulball kosten 30\,00 Euro (Erwach
 sene) und 15\,00 Euro (Schüler) und können ab sofort online bestellt werde
 n. Die Abholung erfolgt dann im Sekretariat.\nAnsprechperson: Tabea Köbsch
  tabea.koebsch@evlks.de\nFlyer o. Broschüre zum Herunterladen: 
DTSTART;TZID=Europe/Berlin:20240309T193000
DTEND;TZID=Europe/Berlin:20240309T203000
LOCATION:Dresden: Ballhaus Watzke
SUMMARY:8. Schulball des Evangelischen Kreuzgymnasiums  'federleicht  und a
 bgehoben'
URL:https://kalender.evlks.de/veranstaltung_im_detail8146.html
END:VEVENT
END:VCALENDAR
