BEGIN:VCALENDAR
VERSION:2.0
PRODID:-//evangelische-termine.de//NONSGML kigkonsult.se iCalcreator 2.18//
CALSCALE:GREGORIAN
METHOD:PUBLISH
X-WR-CALNAME:iCal Evangelische-Termine 22.04.2026
X-WR-CALDESC:iCalender von Evangelische-Termine (22.04.2026)
X-WR-TIMEZONE:Europe/Berlin
X-MS-OLK-FORCEINSPECTOROPEN:TRUE
BEGIN:VTIMEZONE
TZID:Europe/Berlin
BEGIN:STANDARD
DTSTART:19701025T030000
TZOFFSETFROM:+0200
TZOFFSETTO:+0100
RRULE:FREQ=YEARLY;BYDAY=-1SU;BYMONTH=10
TZNAME:CET
END:STANDARD
BEGIN:DAYLIGHT
DTSTART:19700329T020000
TZOFFSETFROM:+0100
TZOFFSETTO:+0200
RRULE:FREQ=YEARLY;BYDAY=-1SU;BYMONTH=3
TZNAME:CEST
END:DAYLIGHT
END:VTIMEZONE
BEGIN:VEVENT
UID:20251021T193000-98880@evangelische-termine.de
DTSTAMP:20260422T085621Z
DESCRIPTION:\nOnline/Offline: Präsenz\nVeranstaltungsort: Kathedralforum Dr
 esden\nSchlossstraße 24\n01067 Dresden\nKurzbeschreibung / Untertitel: Ein
 e musikalische Reise durch die Literatur der Ukraine\nAusführliche Beschre
 ibung: Seit dem 24. Februar 2022 ist die Welt eine andere. Auch in Deutsch
 land spüren wir die Auswirkungen des von Russland entfesselten Kriegs gege
 n sein Nachbarland. Doch was wissen wir wirklich über die Ukraine – abseit
 s der täglichen Schreckensmeldungen? Der Krieg Russlands richtet sich nich
 t nur gegen Land und Leute\, sondern betrifft auch die ukrainische Kultur 
 und seine eigenständige Geschichte. Die Berliner Schauspieler Jan Uplegger
  und Mareile Metzner nehmen Sie mit auf einen literarischen Streifzug durc
 h die Ukraine. Musikalisch stimmen die geflüchteten Sängerinnen Iryna Laze
 r\, Iryna Razin und Nataliia Kuprynenko und der Jazzgitarrist Daniil Zverk
 hanovskyi ein. So entsteht ein atmosphärisch dichtes Porträt dieses Landes
  im Herzen Europas.\nDer Eintritt ist frei. Wir bitten um Spenden für libe
 reco\, Hilfsprojekte in der Ukraine.\n\nKooperation: Katholische Akademie 
 des Bistums Dresden-Meißen\nArt der Veranstaltung: Fortbildungen/Seminare/
 Vorträge
DTSTART;TZID=Europe/Berlin:20251021T193000
DTEND;TZID=Europe/Berlin:20251021T203000
LOCATION:Dresden: Kathedralforum Dresden
SUMMARY:Stimmen der Ukraine :: Eine musikalische Reise durch die Literatur 
 der Ukraine
URL:https://kalender.evlks.de/veranstaltung_im_detail98880.html
END:VEVENT
END:VCALENDAR
